BEGIN:VCALENDAR
VERSION:2.0
PRODID:-//hacksw/handcal//NONSGML v1.0//EN
BEGIN:VEVENT
SUMMARY:Groupe 2 : la croix du ban par St Pierre-Lap.
UID:8976fb7e-54bd-4526-8778-e4b1bc1b1c46
DTSTART:20260324T123000Z
DTEND:20260324T164500Z
LOCATION:Localisation   
CATEGORIES:Sportif
STATUS:
DESCRIPTION:<p>Belle journee annoncee ce mardi.</p>
 
 <p>Je vous
 propose de nous aventurer prudemment dans les monts du
 Lyonnais.</p>
 
 <p>Parcours <a
 href="https://www.openrunner.com/route-details/22141361"
 target="_blank">OR22141361</a> : 76km pour 880m+</p>
 
 <p>Depart FSM
 13h30 ; retour prevu 17h45</p>
 
 <p>Merci de vous
 annoncer</p>
 
 <p>Bruno</p>
URL;VALUE=URI:https://www.ac3f.com/evenements/2026/03/24/groupe-2-la-croix-du-ban-par-st-pierre-lap-2431699
END:VEVENT
END:VCALENDAR
