BEGIN:VCALENDAR
VERSION:2.0
PRODID:-//hacksw/handcal//NONSGML v1.0//EN
BEGIN:VEVENT
SUMMARY:Sortie groupe 3 Beaujolais
UID:66b00dd5-3439-4de2-8b77-4bb8572283db
DTSTART:20260324T123000Z
DTEND:20260324T160000Z
LOCATION:Localisation place de la salle des fetes 69270 Fontaines st Martin
CATEGORIES:Sportif
STATUS:
DESCRIPTION:<p>Demain, belle journee avant la pluie, je vous propose
 Alix, theize 67km 780d+, ceux qui veulent, pourront ne pas monter a
 Theize</p>
 
 <p>no <a
 href="https://www.openrunner.com/route-details/16541922"
 onclick="window.open(this.href, '',
 'resizable=no,status=no,location=no,toolbar=no,menubar=no,fullscreen=yes,scrollbars=no,dependent=no');
 return false;">16541922</a></p>
 
 <p>n'oublier pas de le telecharger,
 merci</p>
URL;VALUE=URI:https://www.ac3f.com/evenements/2026/03/24/sortie-groupe-3-beaujolais-2431729
END:VEVENT
END:VCALENDAR
