BEGIN:VCALENDAR
VERSION:2.0
PRODID:-//hacksw/handcal//NONSGML v1.0//EN
BEGIN:VEVENT
SUMMARY:Groupe 2 : home-trainer pour moi !
UID:96af555a-48f1-4c98-8af6-338a69152031
DTSTART:20260326T123000Z
DTEND:20260326T163000Z
LOCATION:Localisation   
CATEGORIES:Sportif
STATUS:
DESCRIPTION:<p>Vent et pluie annonces pour ce jeudi : Je resterai au
 sec.</p>
 
 <p>Si certains veulent rouler,
 annoncez-vous.</p>
 
 <p>Bruno</p>
URL;VALUE=URI:https://www.ac3f.com/evenements/2026/03/26/groupe-2-home-trainer-pour-moi-2432853
END:VEVENT
END:VCALENDAR
