BEGIN:VCALENDAR
VERSION:2.0
PRODID:-//hacksw/handcal//NONSGML v1.0//EN
BEGIN:VEVENT
SUMMARY:Groupe 3 at home
UID:338f7e94-0b34-4cde-b660-b25a27cb9c86
DTSTART:20260325T230000Z
DTEND:20260326T230000Z
LOCATION:Localisation   
CATEGORIES:Sportif
STATUS:
DESCRIPTION:<p>Pour moi, piscine, mais organisez vous, si vous voulez
 braver la meteo</p>
URL;VALUE=URI:https://www.ac3f.com/evenements/2026/03/26/groupe-3-at-home-2432960
END:VEVENT
END:VCALENDAR
