BEGIN:VCALENDAR
VERSION:2.0
PRODID:-//hacksw/handcal//NONSGML v1.0//EN
BEGIN:VEVENT
SUMMARY:groupe 1: le matin
UID:371a3727-9f3b-4d37-8581-a8b27e50d19c
DTSTART:20260328T080000Z
DTEND:20260328T110000Z
LOCATION:Localisation   
CATEGORIES:Sportif
STATUS:
DESCRIPTION:<p>Je ne serai pas dispo ce samedi, je vais a
 l'ecole</p>
 
 <p>Mon analyse meteo detaillee de ce samedi me dit qu'il
 y a une fenetre de pedalage le matin</p>
 
 <p>Pas chaud certes (6°C a
 9h), mais pas de vent et pas de pluie</p>
 
 <p>Je vous laisse vous
 inscrire et choisir votre parcours a votre convenance</p>
 
 <p>Depart
 a 9h de FSM</p>
URL;VALUE=URI:https://www.ac3f.com/evenements/2026/03/28/groupe-1-le-matin-2433659
END:VEVENT
END:VCALENDAR
