BEGIN:VCALENDAR
VERSION:2.0
PRODID:-//hacksw/handcal//NONSGML v1.0//EN
BEGIN:VEVENT
SUMMARY:MIRIBEL COTIERE dimanche 29 mars
UID:c10d2584-e2bf-416e-b3da-351986068750
DTSTART:20260329T054500Z
DTEND:20260329T110000Z
LOCATION:Localisation   
CATEGORIES:Sportif
STATUS:
DESCRIPTION:<div> Le Miribel VTT organise la 22e edition de la
 Miribel Cotiere VTT, une randonnee ouverte a tous les ages avec des
 circuits de 17 a 50 km </div>
 
 <ul>
 	<li> Deux parcours famille de
 17 km tres facile et facile possible en VTC</li>
 	<li>  Un parcours
 de 30 km sportif </li>
 	<li> <u><strong>Un parcours 35 km sportif
 et technique => Le circuit 35/40 km aura probablement nos
 faveurs</strong></u> <br />
 	 Nombreuses parties techniques,
 singles et variantes ludiques.</li>
 	<li> Un parcours de 50 km avec
 variante possible pour 45 km. </li>
 </ul>
 
 <div>
 <div class="mb-12
 relative">
 <div class="mt-4"><a class="px-4 py-2 rounded-full
 border-2 border-dust-500 hover:bg-dust-500 hover:text-white
 whitespace-nowrap" href="http://www.facebook.com/miribelvtt/"
 popup="true">Site web des organisateurs   <svg class="bi
 bi-box-arrow-up-right w-4 h-4 align-bi" fill="currentColor"
 height="16" viewbox="0 0 16 16" width="16"
 xmlns="http://www.w3.org/2000/svg"> </svg> </a></div>
 </div>
 
 <div
 class="mb-10">
 <div class="flex flex-row flex-wrap gap-6">
 <div
 class="flex-none font-serif italic mb-3 md:text-right pl-6 md:pl-0
 md:w-40"> </div>
 
 <div class="flex-none font-serif italic mb-3
 md:text-right pl-6 md:pl-0 md:w-40">Les premiers departs se faisant a
 8h, RDV a 7h45 sur place</div>
 
 <div class="flex-none font-serif
 italic mb-3 md:text-right pl-6 md:pl-0 md:w-40">Cette annee, le
 depart se fait en bas, place de la Republique a Miribel (et non en
 haut a la salle des fetes)</div>
 
 <div class="flex-none font-serif
 italic mb-3 md:text-right pl-6 md:pl-0 md:w-40">Attention, c'est le
 jour du changement d'heure, et l'on dort 1 heure de moins. Il faudra
 donc etre tres matinal</div>
 
 <div class="flex-none font-serif italic
 mb-3 md:text-right pl-6 md:pl-0 md:w-40"> </div>
 
 <div
 class="flex-none font-serif italic mb-3 md:text-right pl-6 md:pl-0
 md:w-40">Pas de gobelet aux ravitaillements (<b
 class="font-semibold">apporter gourde ou eco-cup</b>)</div>
 
 <div
 class="flex-none font-serif italic mb-3 md:text-right pl-6 md:pl-0
 md:w-40">Une boisson et un hot dog offerts a l'arrivee</div>
 
 <div
 class="flex-none font-serif italic mb-3 md:text-right pl-6 md:pl-0
 md:w-40"> </div>
 </div>
 </div>
 </div>
URL;VALUE=URI:https://www.ac3f.com/evenements/2026/03/29/miribel-cotiere-dimanche-29-mars-2430164
END:VEVENT
END:VCALENDAR
