BEGIN:VCALENDAR
VERSION:2.0
PRODID:-//hacksw/handcal//NONSGML v1.0//EN
BEGIN:VEVENT
SUMMARY:gr1 le matin, Croix du Ban
UID:7f950142-2212-4cba-9597-bac5bdfaf459
DTSTART:20260402T063000Z
DTEND:20260402T101500Z
LOCATION:Localisation   
CATEGORIES:Sportif
STATUS:
DESCRIPTION:<p>Depart FSM a 8h30</p>
 
 <p>Ce sera la Croix du Ban. A
 l'envers compte tenu de nos sorties precedentes. Soit 83 km et D+
 1250 m</p>
 
 <p>Pour faire plaisir a Daniel CH il y aura les Monts
 d'Or au retour, en option pour ceux qui ne sont pas fatigues<br
 />
 Sinon, a Chazay on tire tout droit sur Chasselay</p>
 
 <p>OR <a
 href="https://www.openrunner.com/route-details/23689394">23689394</a></p>
URL;VALUE=URI:https://www.ac3f.com/evenements/2026/04/02/gr1-le-matin-croix-du-ban-2436306
END:VEVENT
END:VCALENDAR
